BEGIN:VCALENDAR
VERSION:2.0
PRODID:-//Nambucca Valley Christian Life Centre - ECPv5.8.1//NONSGML v1.0//EN
CALSCALE:GREGORIAN
METHOD:PUBLISH
X-WR-CALNAME:Nambucca Valley Christian Life Centre
X-ORIGINAL-URL:https://www.nambuccaclc.com.au
X-WR-CALDESC:Events for Nambucca Valley Christian Life Centre
BEGIN:VTIMEZONE
TZID:Australia/NSW
BEGIN:STANDARD
TZOFFSETFROM:+1100
TZOFFSETTO:+1000
TZNAME:AEST
DTSTART:20250405T160000
END:STANDARD
BEGIN:DAYLIGHT
TZOFFSETFROM:+1000
TZOFFSETTO:+1100
TZNAME:AEDT
DTSTART:20251004T160000
END:DAYLIGHT
END:VTIMEZONE
BEGIN:VEVENT
DTSTART;TZID=Australia/NSW:20250818T100000
DTEND;TZID=Australia/NSW:20250818T120000
DTSTAMP:20260422T041935
CREATED:20170623T234109Z
LAST-MODIFIED:20170623T234109Z
UID:1046-1755511200-1755518400@www.nambuccaclc.com.au
SUMMARY:Mainly Music
DESCRIPTION:
URL:https://www.nambuccaclc.com.au/event/mainly-music-2017-06-26/2025-08-18/
LOCATION:Nambucca CLC\, Cnr. Pacific Highway & Florence Wilmont Drive\, Nambucca Heads\, NSW\, 2448\, Australia
ORGANIZER;CN="Nambucca%20Valley%20Christian%20Life%20Centre":MAILTO:peter@nambuccaclc.com.au
END:VEVENT
END:VCALENDAR