BEGIN:VCALENDAR
VERSION:2.0
PRODID:-//Nambucca Valley Christian Life Centre - ECPv5.8.1//NONSGML v1.0//EN
CALSCALE:GREGORIAN
METHOD:PUBLISH
X-WR-CALNAME:Nambucca Valley Christian Life Centre
X-ORIGINAL-URL:https://www.nambuccaclc.com.au
X-WR-CALDESC:Events for Nambucca Valley Christian Life Centre
BEGIN:VTIMEZONE
TZID:Australia/Sydney
BEGIN:STANDARD
TZOFFSETFROM:+1100
TZOFFSETTO:+1000
TZNAME:AEST
DTSTART:20180331T160000
END:STANDARD
BEGIN:DAYLIGHT
TZOFFSETFROM:+1000
TZOFFSETTO:+1100
TZNAME:AEDT
DTSTART:20181006T160000
END:DAYLIGHT
END:VTIMEZONE
BEGIN:VEVENT
DTSTART;TZID=Australia/Sydney:20180401T093000
DTEND;TZID=Australia/Sydney:20180401T113000
DTSTAMP:20260422T134548
CREATED:20180325T091511Z
LAST-MODIFIED:20180325T091603Z
UID:679-1522575000-1522582200@www.nambuccaclc.com.au
SUMMARY:Easter Sunday Service 2018
DESCRIPTION:
URL:https://www.nambuccaclc.com.au/event/easter-sunday-service-2018/
LOCATION:Nambucca CLC\, Cnr. Pacific Highway & Florence Wilmont Drive\, Nambucca Heads\, NSW\, 2448\, Australia
END:VEVENT
END:VCALENDAR